BEGIN:VCALENDAR
VERSION:2.0
PRODID:-//AZ Procurement Technical Assistance Center - ECPv5.16.1.1//NONSGML v1.0//EN
CALSCALE:GREGORIAN
METHOD:PUBLISH
X-WR-CALNAME:AZ Procurement Technical Assistance Center
X-ORIGINAL-URL:https://azptac.com
X-WR-CALDESC:Events for AZ Procurement Technical Assistance Center
BEGIN:VTIMEZONE
TZID:America/Phoenix
BEGIN:STANDARD
TZOFFSETFROM:-0700
TZOFFSETTO:-0700
TZNAME:MST
DTSTART:20220101T000000
END:STANDARD
END:VTIMEZONE
BEGIN:VEVENT
DTSTART;TZID=America/Phoenix:20220428T163000
DTEND;TZID=America/Phoenix:20220428T173000
DTSTAMP:20220704T174324
CREATED:20220301T231613Z
LAST-MODIFIED:20220301T232156Z
UID:[email protected]
SUMMARY:How to Respond to an RFP
DESCRIPTION:Topics we will be covering: \n\nIdentifying the elements of a government solicitation bid package\nInsight to respond more effectively to government solicitations\nObtaining a complete solicitation package from the Government\nOverview of different types of solicitations packages and the responses generally expected with them\nHow to Organize your response\nWhat to submit\nSome things to avoid\n\nPresenter: AZPTAC Procurement Specialist Casandra Martinez \nIn partnership with Yavapai College SBDC.
URL:https://azptac.com/event/how-to-respond-to-an-rfp/
LOCATION:Webinar
ORGANIZER;CN="AZPTAC":MAILTO:[email protected]
END:VEVENT
END:VCALENDAR